BEGIN:VCALENDAR
VERSION:2.0
PRODID:-//wp-events-plugin.com//6.6.3//EN
TZID:Europe/Berlin
X-WR-TIMEZONE:Europe/Berlin
BEGIN:VEVENT
UID:1@schulenburg-leine.de
DTSTART;TZID=Europe/Berlin:20180305T190000
DTEND;TZID=Europe/Berlin:20180305T200000
DTSTAMP:20180218T010119Z
URL:http://schulenburg-leine.de/events/06-sitzung-des-ortsrates-von-schule
 nburg/
SUMMARY:06. SITZUNG DES ORTSRATES VON SCHULENBURG
DESCRIPTION:Die nächste Ortsratssitzung findet am 05.03.2018 statt.\n\nOrt
 : DGH Schulenburg\n\nBeginn: 19.00 Uhr\n\nTagesordnung:\n\n1. Eröffnung d
 er Sitzung\n2. Feststellung der ordnungsgemäßen Ladung und der Beschluss
 fähigkeit\n3. Feststellung der Tagesordnung und der dazu vorliegenden Ant
 räge\n4. Genehmigung des Protokolls über die 05. öffentliche Sitzung vo
 m 07.11.2017\n5. Bericht der Bürgermeisterin\n6. Bericht der Ortsbürger
 meisterin\n7. Unterbrechung f. d. Einwohnerfragestunde bei Anwesenheit\n8.
  Anträge von den Mitgliedern\n9. Anbindung der K 219 (Jeinser Straße) an
  die Ortsumgehung Pattensen im Zuge der B 3\; • Antrag der SPD-Fraktio
 n im OR Pattensen-Mitte vom 28.03.2017\;  • Beschluss des Ortsrates 
 Pattensen-Mitte vom 27.09.2017 (DS. IX/0213)\n10. Leinebrücke im Verlauf
  der L 460 (Schulenburg)\; • Beschluss des Ortsrates Schulenburg vom 27
 .09.2017 • Beschluss des Rates der Stadt Pattensen vom 14.12.2017 (DS.
  IX/0214)\n11. Wahl der Hauptschöffen für die Wahlperiode 2019 bis 2023 
 (DS. IX/0218)\n12. Vorstellung des Seniorenbeauftragten der Stadt Pattense
 n\, Herr Helmut Krause\n13. Anfragen und Anregungen aus den Reihen des Or
 tsrates\n14. Anfragen der Zuhörer\n15. Schließung der Sitzung
CATEGORIES:Ortsrat
END:VEVENT
BEGIN:VTIMEZONE
TZID:Europe/Berlin
X-LIC-LOCATION:Europe/Berlin
BEGIN:STANDARD
DTSTART:20171029T020000
TZOFFSETFROM:+0200
TZOFFSETTO:+0100
TZNAME:CET
END:STANDARD
END:VTIMEZONE
END:VCALENDAR